BEGIN:VCALENDAR
VERSION:2.0
PRODID:DPCALENDAR
CALSCALE:GREGORIAN
X-WR-TIMEZONE:UTC
BEGIN:VEVENT
DTSTART;TZID=America/Chicago:20260509T130000
DTEND;TZID=America/Chicago:20260509T150000
UID:o1loctmsomfcsal6v9fi4sp2g4_R20260214T190000@google.com
RECURRENCE-ID:20260509T180000Z
SUMMARY:Ak-Sar-Ben ARC VE Session
DTSTAMP:20120719T113825Z
DESCRIPTION:Location:   Salvation Army Emergency Disaster Services Building 


VEs servicing the exam session are volunteers from AARC And local clubs 
http://www.aksarbenarc.org/main/index.php/ve-sessions2/93-ve-session-requirements
X-ALT-DESC;FMTTYPE=text/html:Location:   Salvation Army Emergency Disaster Services Building <br />
<br />
<br />
VEs servicing the exam session are volunteers from AARC And local clubs <br />
<a href="http://www.aksarbenarc.org/main/index.php/ve-sessions2/93-ve-session-requirements">http://www.aksarbenarc.org/main/index.php/ve-sessions2/93-ve-session-requirements</a>
LOCATION:10629 Burt Circle\, 68114 Omaha\, Nebraska\, United States
GEO:41.26677430;-96.07969410
LAST-MODIFIED:20251229T234852Z
X-ACCESS:1
X-HITS:0
X-URL:https://www.google.com/calendar/event?eid=bzFsb2N0bXNvbWZjc2FsNnY5Zmk0c3AyZzRfMjAyNjA1MDlUMTgwMDAwWiBmYTJoNmptOXJwdG5yMnYwdGk5bmtlbW0wc0Bn
X-COLOR:3F4DC7
END:VEVENT
END:VCALENDAR